BEGIN:VCALENDAR
VERSION:2.0
PRODID:-//arkansansforthearts.org//NONSGML kigkonsult.se iCalcreator 2.30.1
 0//
CALSCALE:GREGORIAN
METHOD:PUBLISH
UID:4197f91d-fb34-466a-8f9f-755b613fe796
X-WR-CALDESC:The next Arkansas Legislative Art + Technology Boot Camp is Ma
 y 4\, 2022\, at Texarkana Arkansas School District in Texarkana. You are i
 nvited to attend via ZOOM from 10:00am - 11:45am.
X-WR-RELCALID:d8d8b75a3cb57383d7affa4b1f053e55
X-WR-TIMEZONE:America/Chicago
BEGIN:VTIMEZONE
TZID:America/Chicago
BEGIN:STANDARD
TZNAME:CST
DTSTART:20211107T020000
TZOFFSETFROM:-0500
TZOFFSETTO:-0600
RDATE:20221106T020000
END:STANDARD
BEGIN:DAYLIGHT
TZNAME:CDT
DTSTART:20220313T020000
TZOFFSETFROM:-0600
TZOFFSETTO:-0500
RDATE:20230312T020000
END:DAYLIGHT
END:VTIMEZONE
BEGIN:VEVENT
UID:30000a56-e5e2-4989-abeb-aa3ac689cd74
DTSTAMP:20260420T200234Z
DESCRIPTION:The next Arkansas Legislative Art + Technology Boot Camp is May
  4\, 2022\, at Texarkana Arkansas School District in Texarkana. You are in
 vited to attend via ZOOM from 10:00am - 11:45am.
DTSTART;TZID=America/Chicago:20220504T100000
DTEND;TZID=America/Chicago:20220504T114500
LOCATION:https://us06web.zoom.us/j/84504733101?pwd=eVJucTZaNG96d04rdWNwL0x5
 ZmNJUT09#success
SUMMARY:Texarkana Boot Camp
END:VEVENT
END:VCALENDAR
