BEGIN:VCALENDAR
VERSION:2.0
PRODID:-//arkansansforthearts.org//NONSGML kigkonsult.se iCalcreator 2.30.1
 0//
CALSCALE:GREGORIAN
METHOD:PUBLISH
UID:86a6207c-3a46-4f4a-90f6-16ca4ec9124e
X-WR-CALDESC:Begin your holiday celebrations with the LR Winds’ musical off
 erings of yuletide favorites performed with the fabulous Arkansas Chamber 
 Singers and stunning soprano\, JoAna Rusche. And you better watch out - we
  may have a surprise visitor! Israel Getzov\, conductor\; Brent Walker\, c
 oncert moderator The Stocking Stuffer Silent Auction opens at 6:30 p.m. an
 d offers lots of items to fill those Christmas stockings.
X-WR-RELCALID:0ced459c91285f2e0c3960fe5c352d4e
X-WR-TIMEZONE:America/Chicago
BEGIN:VTIMEZONE
TZID:America/Chicago
BEGIN:STANDARD
TZNAME:CST
DTSTART:20211107T020000
TZOFFSETFROM:-0500
TZOFFSETTO:-0600
RDATE:20221106T020000
END:STANDARD
BEGIN:DAYLIGHT
TZNAME:CDT
DTSTART:20210314T020000
TZOFFSETFROM:-0600
TZOFFSETTO:-0500
RDATE:20220313T020000
RDATE:20230312T020000
END:DAYLIGHT
END:VTIMEZONE
BEGIN:VEVENT
UID:cae48f39-8d47-41a5-8537-623af4a7e90a
DTSTAMP:20260424T081223Z
DESCRIPTION:Begin your holiday celebrations with the LR Winds’ musical offe
 rings of yuletide favorites performed with the fabulous Arkansas Chamber S
 ingers and stunning soprano\, JoAna Rusche. And you better watch out - we 
 may have a surprise visitor! Israel Getzov\, conductor\; Brent Walker\, co
 ncert moderator The Stocking Stuffer Silent Auction opens at 6:30 p.m. and
  offers lots of items to fill those Christmas stockings.
DTSTART;TZID=America/Chicago:20211216T193000
DTEND;TZID=America/Chicago:20211216T210000
LOCATION:600 Pleasant Valley Dr.\, Little Rock\, AR 72227 US
SUMMARY:Little Rock Wind Symphony presents “Merry Christmas\, Merry Christm
 as”
END:VEVENT
END:VCALENDAR
