BEGIN:VCALENDAR
VERSION:2.0
PRODID:-//arkansansforthearts.org//NONSGML kigkonsult.se iCalcreator 2.30.1
 0//
CALSCALE:GREGORIAN
METHOD:PUBLISH
UID:ce5d16f5-5e32-4f12-bf54-dfb169791c17
X-WR-CALDESC:500 Woodlane St\, Little Rock\, AR 72201
X-WR-RELCALID:60e146ebfdbbfbea8437d5fde7816da7
X-WR-TIMEZONE:America/Chicago
BEGIN:VTIMEZONE
TZID:America/Chicago
BEGIN:STANDARD
TZNAME:CST
DTSTART:20181104T020000
TZOFFSETFROM:-0500
TZOFFSETTO:-0600
RDATE:20191103T020000
END:STANDARD
BEGIN:DAYLIGHT
TZNAME:CDT
DTSTART:20180311T020000
TZOFFSETFROM:-0600
TZOFFSETTO:-0500
RDATE:20190310T020000
RDATE:20200308T020000
END:DAYLIGHT
END:VTIMEZONE
BEGIN:VEVENT
UID:f57578aa-4ad5-4a9e-994f-8f48e624aee7
DTSTAMP:20260420T160735Z
DESCRIPTION:500 Woodlane St\, Little Rock\, AR 72201
DTSTART;TZID=America/Chicago:20181107T090000
DTEND;TZID=America/Chicago:20181107T140000
LOCATION:Rotunda of Arkansas State Capitol
SUMMARY:1st Annual Arkansas Arts Advocacy Day
END:VEVENT
END:VCALENDAR
