BEGIN:VCALENDAR
VERSION:2.0
PRODID:-//arkansansforthearts.org//NONSGML kigkonsult.se iCalcreator 2.30.1
 0//
CALSCALE:GREGORIAN
METHOD:PUBLISH
UID:75272808-3880-40b0-bcf0-db0afd1eff6e
X-WR-CALDESC:2801 S University Avenue\, Little Rock\, AR 72204
X-WR-RELCALID:7e55127685538997d31104db051dc9e1
X-WR-TIMEZONE:America/Chicago
BEGIN:VTIMEZONE
TZID:America/Chicago
BEGIN:STANDARD
TZNAME:CST
DTSTART:20171105T020000
TZOFFSETFROM:-0500
TZOFFSETTO:-0600
RDATE:20181104T020000
RDATE:20191103T020000
END:STANDARD
BEGIN:DAYLIGHT
TZNAME:CDT
DTSTART:20180311T020000
TZOFFSETFROM:-0600
TZOFFSETTO:-0500
RDATE:20190310T020000
RDATE:20200308T020000
END:DAYLIGHT
END:VTIMEZONE
BEGIN:VEVENT
UID:1ef63c74-8b97-4886-98fc-23ff6b43aa3d
DTSTAMP:20260420T175259Z
DESCRIPTION:2801 S University Avenue\, Little Rock\, AR 72204
DTSTART;TZID=America/Chicago:20181021T153000
DTEND;TZID=America/Chicago:20181021T170000
LOCATION:Lecture Hall of the Windgate Center of Art + Design on UA Little R
 ock
SUMMARY:2018 Membership Meeting
END:VEVENT
END:VCALENDAR
